BEGIN:VCALENDAR
VERSION:2.0
PRODID:-//Metal Culture - ECPv6.15.18//NONSGML v1.0//EN
CALSCALE:GREGORIAN
METHOD:PUBLISH
X-WR-CALNAME:Metal Culture
X-ORIGINAL-URL:https://metalculture.com
X-WR-CALDESC:Events for Metal Culture
REFRESH-INTERVAL;VALUE=DURATION:PT1H
X-Robots-Tag:noindex
X-PUBLISHED-TTL:PT1H
BEGIN:VTIMEZONE
TZID:UTC
BEGIN:STANDARD
TZOFFSETFROM:+0000
TZOFFSETTO:+0000
TZNAME:UTC
DTSTART:20220101T000000
END:STANDARD
END:VTIMEZONE
BEGIN:VEVENT
DTSTART;VALUE=DATE:20230804
DTEND;VALUE=DATE:20250425
DTSTAMP:20260420T030109
CREATED:20221216T103839Z
LAST-MODIFIED:20231109T113605Z
UID:19179-1691107200-1745539199@metalculture.com
SUMMARY:Drawing In The Park
DESCRIPTION:Weekly on Thursdays\, 9.30am – 12.30pm\n\n\n£110 for 8 x 3 hour sessions\n\n\nAsk about our special price for taster sessions\n\n\nLed by artist Fern Worsley\n\n\nJoin facilitator and artist Fern Worsley for this ongoing popular eight week course!\n\nExperiment with drawing and painting methods during with these relaxed\, guided sessions at Metal Art School. Discover materials such as inks\, gold leaf\, gouache\, pastels\, stencilling and blow pens as we look at Chalkwell Park and our local foliage in a new way.\n\nTea and cake provided\, and all levels very welcome.\n\n\nContact Fern directly to book your place: info@fernworsley.net\n\n\n\n			\n				\n			\n			\n				\n			\n			\n				\n			\n			\n				\n			\n		\n\n\nMetal Art School hosts a busy programme of workshops\, classes and creative socials\, led by independent creatives within our local community. By offering our studio space free of charge\, Metal support local creatives in reaching new audiences\, sharing creative practice and building their portfolio as freelance artists.\n\nTo enquire into hosting a class here\, please fill out this form.
URL:https://metalculture.com/whats-on/drawing-in-the-park-2/
LOCATION:Metal Art School : Southend\, Metal Art School\, Southend on Sea\, Essex\, SS0 8NB\, United Kingdom
CATEGORIES:Ongoing activities
ATTACH;FMTTYPE=image/jpeg:https://metalculture.com/wp-content/uploads/2022/10/image_6483441-5-600x600-2.jpeg
END:VEVENT
BEGIN:VEVENT
DTSTART;TZID=UTC:20240706T100000
DTEND;TZID=UTC:20240713T170000
DTSTAMP:20260420T030109
CREATED:20240626T112043Z
LAST-MODIFIED:20240626T112043Z
UID:22469-1720260000-1720890000@metalculture.com
SUMMARY:Leigh Art Trail
DESCRIPTION:We are opening up Chalkwell Hall to feature as Venue 1 on the map for this year’s Leigh Art Trail. We will be hosting artists Wendy Scotland\, SEVEN Collective\, KOMAR\, Mia Davies and Nicky Roach! \nWith around 70 artists across the trail and a combination of contemporary painting\, ceramics\, mixed media\, sculpture\, photography and much more\, there’s lots to discover. \nVisit the Leigh Art Trail website to find out more about each artist and view the full map with over 48 locations across Chalkwell and Leigh-on-Sea. \nDates:\nSaturday 6 July – Saturday 13 July \nPrivate View:\nSunday 7 July\, 1pm – 4pm. \nOpening times:\n10am – 5pm: Monday – Saturday\n10am – 1pm: Sunday
URL:https://metalculture.com/whats-on/leigh-art-trail/
LOCATION:Metal Southend\, Chalkwell Hall\, Chalkwell Avenue\, Southend on Sea\, Essex\, SS08NB\, United Kingdom
CATEGORIES:Featured
ATTACH;FMTTYPE=image/png:https://metalculture.com/wp-content/uploads/2024/06/Picture1.png
END:VEVENT
BEGIN:VEVENT
DTSTART;TZID=UTC:20240713T190000
DTEND;TZID=UTC:20240713T213000
DTSTAMP:20260420T030109
CREATED:20240701T083333Z
LAST-MODIFIED:20240703T105117Z
UID:22492-1720897200-1720906200@metalculture.com
SUMMARY:Hosted at Metal Liverpool: Room Service
DESCRIPTION:Join Mooncup Theatre hosted at Metal on Saturday 13 July from 7pm for an eye-opening exploration of the British Hotel Industry’s exploitation across the decades. Featuring insights from Dr. Eloise Moss of The University of Manchester\, Mooncup Theatre’s living exhibition delves into the blurred boundaries between ‘service’ and ‘servility’ faced by hotel workers. \nAfterwards\, join Mooncup Theatre for a vegan dinner and a panel discussion on Modern Slavery with Dr Eloise Moss\, Jennie Taylor – Racial Justice Officer for The Diocese of Liverpool\, Nana Berikishvili – Merseyside Organiser at POMOC and more. \nTickets for this event cost £10. Reserve your place now and uncover the hidden truths of the hospitality industry here. \nPlease note: this event is ‘Hosted at’ Metal Liverpool and functions outside of our programme as a dry hire. For more information on the organisers\, please visit their website here. For more information about Metal and our public programme\, please visit the What’s On page here.
URL:https://metalculture.com/whats-on/hosted-at-metal-liverpool-room-service/
LOCATION:Metal Liverpool\, Platform 1\, Edge Hill Station\, Tunnel Road\, Liverpool\, L7 6ND\, United Kingdom
CATEGORIES:Featured
ATTACH;FMTTYPE=image/jpeg:https://metalculture.com/wp-content/uploads/2024/07/RoomService1.jpg
END:VEVENT
BEGIN:VEVENT
DTSTART;TZID=UTC:20240717T180000
DTEND;TZID=UTC:20240717T200000
DTSTAMP:20260420T030109
CREATED:20240618T171601Z
LAST-MODIFIED:20240626T121510Z
UID:22465-1721239200-1721246400@metalculture.com
SUMMARY:Hosted at Metal Liverpool: Mothers Who Make
DESCRIPTION:Hosted at Metal Liverpool\, Mothers Who Make calls on a multiplicity of female\, non-binary and trans identities to gather people who are mothers\, parents or carers at any stage in their journey. Led by Claire Bigley\, Mothers Who Makes recognises that there may be ‘others’ in ‘mothers’ and welcomes all who identify with this role. \nMakers of all interests and disciplines are encouraged to join\, whether your creative identity is a profession\, a passion or lying dormant\, you are welcome. The sessions are adult-centred\, but children are welcome to attend. \nMeetings are once a month\, and you are free to attend. Share dinner and journeys together\, chat\, make and play! \nFollow Mothers Who Make Liverpool online: @motherswhomake (Instagram) and  @MwmLiverpool (X) \nFor more information\, please contact: clairebigley@icloud.com \nPlease note: this event is ‘Hosted at’ Metal Liverpool and functions outside of our programme as a dry hire. For more information on the organisers\, please visit their website here. For more information about Metal and our public programme\, please click here. 
URL:https://metalculture.com/whats-on/hosted-at-metal-liverpool-mothers-who-make/
LOCATION:Metal Liverpool\, Platform 1\, Edge Hill Station\, Tunnel Road\, Liverpool\, L7 6ND\, United Kingdom
CATEGORIES:Featured
ATTACH;FMTTYPE=image/jpeg:https://metalculture.com/wp-content/uploads/2024/06/others-in-mothers-1.jpg
END:VEVENT
BEGIN:VEVENT
DTSTART;TZID=UTC:20240719T193000
DTEND;TZID=UTC:20240719T213000
DTSTAMP:20260420T030109
CREATED:20240703T110137Z
LAST-MODIFIED:20240703T110137Z
UID:22497-1721417400-1721424600@metalculture.com
SUMMARY:Hosted at Metal Liverpool: AMQH presents Morton\, Branton & Karlsen + branch2branch
DESCRIPTION:Hosted at Metal Liverpool\, Stalwarts of the North West’s improvised music scene\, Phil Morton and Nick Branton will be joined by Leeds drummer Emil Karlsen for a trio performance encompassing free jazz to free improvisation. \nSupport comes from branch2branch\, the duo of Richard Harding (classical guitar) and Michael Beiert (computer)\, who will be processing Richard’s playing live to produce an ambient piece of music. \nTickets are priced from £5 and are available via AMQH here. \nPlease note: this event is ‘Hosted at’ Metal Liverpool and functions outside of our programme as a dry hire. For more information on the organisers\, please visit their website here. For more information about Metal and our public programme\, please visit the What’s On page here.
URL:https://metalculture.com/whats-on/hosted-at-metal-liverpool-amqh-presents-morton-branton-karlsen-branch2branch/
LOCATION:Metal Liverpool\, Platform 1\, Edge Hill Station\, Tunnel Road\, Liverpool\, L7 6ND\, United Kingdom
ATTACH;FMTTYPE=image/jpeg:https://metalculture.com/wp-content/uploads/2024/07/AMQH-19July-web.jpg
END:VEVENT
BEGIN:VEVENT
DTSTART;TZID=UTC:20240725T190000
DTEND;TZID=UTC:20240725T203000
DTSTAMP:20260420T030109
CREATED:20240723T165849Z
LAST-MODIFIED:20240723T165849Z
UID:22692-1721934000-1721939400@metalculture.com
SUMMARY:MNAN: Pitching Your Idea with Aisha Zia
DESCRIPTION:Take a look at how to make your project more fundable for an Arts Council England (ACE) Project Grant. From the process\, to how you make work\, who you make work with and community-based partners\, Aisha will help you develop your artistic vision\, working towards writing a stronger proposal using the ACE submission policy guidelines. \nThis session will be an introduction to getting ready for Arts Council Project Grants from an artist who has successfully received funding themselves. \nAbout Aisha Zia: Aisha is an award-winning\, British-Pakistani writer for theatre\, film and TV. She won Highly Commended from Amnesty International at the Edinburgh Fringe in 2013 for her play Our Glass House\, and The Scotsman Fringe First in 2014 for her play No Guts\, No Heart\, No Glory\, both with Common Wealth. No Guts\, a play about boxing Muslim women\, was selected for the Women of the World Festival at the Southbank Centre\, and Live from TVC with the Battersea Arts Centre screened on BBC4. It is published by Oberon Books.
URL:https://metalculture.com/whats-on/mnan-pitching-your-idea-with-aisha-zia/
LOCATION:UK Wide (Online Event)\, Online\, United Kingdom
CATEGORIES:Featured
ATTACH;FMTTYPE=image/png:https://metalculture.com/wp-content/uploads/2024/07/AISHA-ZIA.png
END:VEVENT
BEGIN:VEVENT
DTSTART;TZID=UTC:20240729T170000
DTEND;TZID=UTC:20240729T183000
DTSTAMP:20260420T030109
CREATED:20240715T123001Z
LAST-MODIFIED:20240715T123001Z
UID:22520-1722272400-1722277800@metalculture.com
SUMMARY:The Drawing Social
DESCRIPTION:Join us for our next Drawing Social event taking place at Granby Winter Garden on Monday 29 July from 5pm – 6.30pm. \nThe Drawing Social is a bi-monthly\, informal drawing network. The events are open to any creatives\, of all skills and backgrounds\, interested in exploring storytelling through print\, zines\, and comics (over 18 years of age). We bring together like-minded artists to share skills and interests\, and to develop the DIY print and comics scene in Liverpool. \nFeel free to bring along your own projects to work on\, we’ll always provide a drawing prompt too. It’s a chance to relax\, draw\, chat\, meet new people and enjoy vegan food and snacks. \nCome along and bring your own drawings to share! \nReserve your free space here.
URL:https://metalculture.com/whats-on/the-drawing-social-5/
LOCATION:Granby Winter Garden\, 37-39 Cairns Street\, Liverpool\, L8 2UW\, United Kingdom
CATEGORIES:Featured
ATTACH;FMTTYPE=image/jpeg:https://metalculture.com/wp-content/uploads/2024/07/Drawing-Social-July-2024-web-lo-res.jpg
ORGANIZER;CN="Metal Liverpool":MAILTO:edgehill@metalculture.com
END:VEVENT
END:VCALENDAR