BEGIN:VCALENDAR
VERSION:2.0
PRODID:-//Metal Culture - ECPv6.15.18//NONSGML v1.0//EN
CALSCALE:GREGORIAN
METHOD:PUBLISH
X-WR-CALNAME:Metal Culture
X-ORIGINAL-URL:https://metalculture.com
X-WR-CALDESC:Events for Metal Culture
REFRESH-INTERVAL;VALUE=DURATION:PT1H
X-Robots-Tag:noindex
X-PUBLISHED-TTL:PT1H
BEGIN:VTIMEZONE
TZID:UTC
BEGIN:STANDARD
TZOFFSETFROM:+0000
TZOFFSETTO:+0000
TZNAME:UTC
DTSTART:20220101T000000
END:STANDARD
END:VTIMEZONE
BEGIN:VEVENT
DTSTART;VALUE=DATE:20230804
DTEND;VALUE=DATE:20250425
DTSTAMP:20260419T210314
CREATED:20221216T103839Z
LAST-MODIFIED:20231109T113605Z
UID:19179-1691107200-1745539199@metalculture.com
SUMMARY:Drawing In The Park
DESCRIPTION:Weekly on Thursdays\, 9.30am – 12.30pm\n\n\n£110 for 8 x 3 hour sessions\n\n\nAsk about our special price for taster sessions\n\n\nLed by artist Fern Worsley\n\n\nJoin facilitator and artist Fern Worsley for this ongoing popular eight week course!\n\nExperiment with drawing and painting methods during with these relaxed\, guided sessions at Metal Art School. Discover materials such as inks\, gold leaf\, gouache\, pastels\, stencilling and blow pens as we look at Chalkwell Park and our local foliage in a new way.\n\nTea and cake provided\, and all levels very welcome.\n\n\nContact Fern directly to book your place: info@fernworsley.net\n\n\n\n			\n				\n			\n			\n				\n			\n			\n				\n			\n			\n				\n			\n		\n\n\nMetal Art School hosts a busy programme of workshops\, classes and creative socials\, led by independent creatives within our local community. By offering our studio space free of charge\, Metal support local creatives in reaching new audiences\, sharing creative practice and building their portfolio as freelance artists.\n\nTo enquire into hosting a class here\, please fill out this form.
URL:https://metalculture.com/whats-on/drawing-in-the-park-2/
LOCATION:Metal Art School : Southend\, Metal Art School\, Southend on Sea\, Essex\, SS0 8NB\, United Kingdom
CATEGORIES:Ongoing activities
ATTACH;FMTTYPE=image/jpeg:https://metalculture.com/wp-content/uploads/2022/10/image_6483441-5-600x600-2.jpeg
END:VEVENT
BEGIN:VEVENT
DTSTART;TZID=UTC:20241003T180000
DTEND;TZID=UTC:20241003T200000
DTSTAMP:20260419T210314
CREATED:20240919T134913Z
LAST-MODIFIED:20240919T134913Z
UID:22875-1727978400-1727985600@metalculture.com
SUMMARY:PICTON PLAY: 'The 86' bus book launch
DESCRIPTION:Join us at Metal Liverpool for an evening of celebration to mark the launch of Nicki McCubbing’s book\, ‘The 86’. \nFeaturing live music from Claire Welles\, Sonic Yootha DJs and refreshments. Limited free copies of the book will be given to guests on arrival\, so arrive early to avoid disappointment. \nNicki McCubbing has been in residence with Metal as part of our PICTON PLAY project’s ‘Listening’ phase and we can’t wait to share the unique observations with you. \nAn outline of the event running order is below: \n\n6pm: Platform 1 doors and bar open + Sonic Yootha DJs\n7pm: Live music performance from Claire Welles\n8pm: Finish\n\nPICTON PLAY is bringing together artists\, community organisers\, young people and other curious residents to celebrate the existing creativity in our neighbourhood and explore new ways of getting together through play. \nWe look forward to sharing this special moment with you and celebrating the creative achievements of Nicki McCubbing. \nPlease RSVP here by Monday 30 September to ensure your attendance.
URL:https://metalculture.com/whats-on/picton-play-the-86-bus-book-launch/
LOCATION:Metal Liverpool\, Platform 1\, Edge Hill Station\, Tunnel Road\, Liverpool\, L7 6ND\, United Kingdom
CATEGORIES:Featured
ATTACH;FMTTYPE=image/png:https://metalculture.com/wp-content/uploads/2024/09/86-book-website-image.png
ORGANIZER;CN="Metal Liverpool":MAILTO:edgehill@metalculture.com
END:VEVENT
BEGIN:VEVENT
DTSTART;TZID=UTC:20241005T100000
DTEND;TZID=UTC:20241005T170000
DTSTAMP:20260419T210314
CREATED:20240917T092546Z
LAST-MODIFIED:20240917T092546Z
UID:22852-1728122400-1728147600@metalculture.com
SUMMARY:Hosted at Metal Peterborough: Fen Fest
DESCRIPTION:Hosted at Metal Peterborough\, a day of creative and collaborative exploration into radical\, queer and alternative histories of the fens\, led by new fen arts collective. \nFen Fest is organised by a collective group of creatives who are working together to understand the radical histories\, traditions and cultures of the Fens.  \nAll aged 16+ are welcome to attend. People are encouraged to stay the whole day\, but if you’re only able to attend part of the morning or the afternoon\, please let the collective know by contacting artist Martha Cattell marthacattell@gmail.com \nThe event is pay-as-you feel or free. All proceeds will go towards food and materials on the day and any future fen focused events. \nTimetable for the day:   \n\n10.00am – 10.45am: Introduction and Fen dialect word game\n10.45am – 11.45am: Molly Dancing – Take part in Molly Dancing with drag folk dancer Alanna\n11.50am – 1.15pm: Flag Making – Inspired by flags flown when Fens were drained\, we’ll make new flags\, celebrating the Fens and its ecological presents/futures\n1.15am – 2.00pm: Provided lunch inspired by the Fens – Vegan and gluten free\, starter: pea soup\, main: stew\, dessert: apple pie\n2.15pm – 3.15pm: Fen Folk Songs – a chance to learn some local fen songs\n3.15pm – 3.30pm: Break\, reflections and thoughts\n3.30pm – 5.00pm: Fen Time Stories Live and Fen Open Mic – Read a poem you’ve written\, a song that reminds you of the Fens\, a dance you know\, a text that you’ve found about the Fens\, show an object that you’ve found or made… it’s open to anything!\n\nThis event has been supported via our Reading Room. The Reading Room is a library and a place to think\, listen and share ideas in Peterborough. It is stocked with over 200 thought-provoking books from Pluto Press\, a radical publishing house\, exploring politics\, history and the environment. \nThe Reading Room also hosts events that open-up debate about the local issues affecting our everyday lives. The programme takes a lead from our community partners and so far\, these topics have covered inequality\, the environment\, precarious employment\, LGBTQ+ issues\, structural racism and more.  You can find out more about The Reading Room and how to visit here. \nTo find out more about the event and to book a spot\, click here.
URL:https://metalculture.com/whats-on/hosted-at-metal-peterborough-fen-fest/
LOCATION:Metal Peterborough\, Chauffeur's Cottage\, St Peter's Road\, Peterborough\, PE1 1YX
CATEGORIES:Featured
ATTACH;FMTTYPE=image/jpeg:https://metalculture.com/wp-content/uploads/2024/09/1.jpg
END:VEVENT
BEGIN:VEVENT
DTSTART;TZID=UTC:20241016T100000
DTEND;TZID=UTC:20241016T173000
DTSTAMP:20260419T210314
CREATED:20241003T111625Z
LAST-MODIFIED:20241015T144837Z
UID:22916-1729072800-1729099800@metalculture.com
SUMMARY:Southend: Open Advice Sessions
DESCRIPTION:Metal Southend Open Advice Sessions for creatives of all levels and art forms. \nOn Wednesday 16 October\, we’re offering free 1:1 sessions for artists who live and/or work within our local area. These sessions will be led by you and what you would like to discuss\, which might include:  \n\nDiscussing your creative practice \nTalking through a project idea\nAdvice or sign posting to different funding routes or opportunities\nBuilding relationships with different organisations\, voluntary groups\, partners or venues\nBudget development or reading draft applications \n\n We’re offering these sessions in person from Chalkwell Hall\, as well as the option to discuss your work with us online. There’s one session available per artist and the slots are 1 hour long. \nSessions will be open on a first come first served basis (to those who live and/or work in the location where we are based)\, and if you have had a slot previously\, you won’t be eligible this time. \nBook you free slot here.
URL:https://metalculture.com/whats-on/southend-open-advice-sessions/
LOCATION:Metal Southend\, Chalkwell Hall\, Chalkwell Avenue\, Southend on Sea\, Essex\, SS08NB\, United Kingdom
CATEGORIES:Featured
ATTACH;FMTTYPE=image/png:https://metalculture.com/wp-content/uploads/2024/10/Open-Advice-Sessions-2.png
END:VEVENT
BEGIN:VEVENT
DTSTART;TZID=UTC:20241018T193000
DTEND;TZID=UTC:20241018T213000
DTSTAMP:20260419T210314
CREATED:20241015T101603Z
LAST-MODIFIED:20241015T101603Z
UID:22942-1729279800-1729287000@metalculture.com
SUMMARY:Hosted at Metal Liverpool: Gemini Tapes + Matthew Philips & Nick Branton
DESCRIPTION:Hosted at Metal Liverpool: AMQH (a.k.a. whi music) presents Gemini Tapes\, plus Matthew Philips and Nick Branton. \nGemini Tapes is Mark Greenwood (ex-Cavalier Song\, Prison Behaviour) and Peter Smyth (Bloodcog\, ex-Mugstar\, Kling Klang). They create an improvisational noise that uses cheap samplers\, tape loops\, feedback\, broken keyboards and guitar effects pedals\, chants and screams. \nMatthew Phillips (cello) and Nick Branton (bass clarinet) will open the evening as a pair. \nThe Calderstones at Calderstones Park were the first inspiration for Matthew and Nick to come together\, using sketches of these ancient stones as graphic scores to inform their improvisations. Now they are expanding – introducing different forms of graphic score and visual aid to help them explore other sonic possibilities. \nTickets are £7 / £5 and are available here via Ticketsource. \nPlease note: This event is ‘hosted at’ Metal Liverpool and functions outside of our programme as a dry hire. For more information about Metal and our public programme\, please click here.
URL:https://metalculture.com/whats-on/gemini-tapes/
LOCATION:Metal Liverpool\, Platform 1\, Edge Hill Station\, Tunnel Road\, Liverpool\, L7 6ND\, United Kingdom
CATEGORIES:Featured
ATTACH;FMTTYPE=image/png:https://metalculture.com/wp-content/uploads/2024/10/Gemini-Tapes.png
END:VEVENT
BEGIN:VEVENT
DTSTART;TZID=UTC:20241028T120000
DTEND;TZID=UTC:20241028T140000
DTSTAMP:20260419T210314
CREATED:20241021T112557Z
LAST-MODIFIED:20241021T112557Z
UID:22963-1730116800-1730124000@metalculture.com
SUMMARY:Large-Scale Event and Festivals Gathering
DESCRIPTION:Do you run a large event or festival? Maybe it’s a parade\, a festival on a green\, or a multi-site art exhibition? Do you want to connect with others who might run similar events? Or do you have big dreams about making your festival a reality? If so\, join us for our Large-Scale Event and Festivals Gathering on Monday 28 October from 12 – 2pm. \nTogether with the Peterborough Cultural Alliance\, Metal Peterborough is hosting a Large-Scale Event and Festivals Gathering\, bringing together groups\, individuals\, organisations and the people who work hard behind the scenes\, from in and around Peterborough. This new network will be led by those involved and exists to help support the wealth of brilliant large-scale events happening across the city\, creating a space for inspiration\, sharing knowledge and expertise\, troubleshooting and collaboration. \nAt our next gathering\, we’ll share\, connect and make plans for the future! Each gathering will have a guest speaker who’ll run a short workshop on something the group has identified. On Monday 28 October\, we’ll be joined by Emily Bradfield who will be sharing her creative approaches to evaluation and how to make them fun. Emily will help you to reimagine evaluation – using creative examples and hands on\, practical activities to give it a go. \nAbout Dr Emily Bradfield  \nEmily Bradﬁeld has been working at the intersection of arts\, health and wellbeing for over a decade\, supporting arts and health organisations throughout the UK to explore creative methods and “do data differently”! Her creative approach helps people to reimagine evaluation and bridge the gap between research and practice. Find out more about Emily’s work here. \nBook your spot email – Jack@metalculture.com \nIf you can’t attend this gathering but would like to receive updates and information on the network and future events\, sign up here. \nThe Large-Scale Events Network is part of the Peterborough Cultural Alliance’s programme of building creative networks and is hosted by Metal. Find out more about the Peterborough Cultural Alliance here.
URL:https://metalculture.com/whats-on/large-scale-event-and-festivals-gathering/
LOCATION:Metal Peterborough\, Chauffeur's Cottage\, St Peter's Road\, Peterborough\, PE1 1YX
CATEGORIES:Featured
ATTACH;FMTTYPE=image/png:https://metalculture.com/wp-content/uploads/2024/09/Large-Scale-Event-Network.png
END:VEVENT
BEGIN:VEVENT
DTSTART;TZID=UTC:20241030T103000
DTEND;TZID=UTC:20241030T170000
DTSTAMP:20260419T210314
CREATED:20241015T144827Z
LAST-MODIFIED:20241015T144827Z
UID:22950-1730284200-1730307600@metalculture.com
SUMMARY:Peterborough: Open Advice Sessions
DESCRIPTION:Metal Peterborough Open Advice Sessions for creatives of all levels and art forms. \nWe’re offering free 1:1 sessions for artists who live and/or work within our local areas. These sessions will be led by you and what you would like to discuss\, which might include:  \n\nDiscussing your creative practice \nTalking through a project idea \nAdvice or sign posting to different funding routes or opportunities \nBuilding relationships with different organisations\, voluntary groups\, partners or venues \nBudget development or reading draft applications \n\nWe’re offering these sessions in person at our location Chauffeurs Cottage in Peterborough\, as well as the option to discuss your work with us online. There is one session available per artist and the slots are 1 hour long. \nSessions are free and will be open on a first come first served basis (to those who live and/or work in the locations where we are based). To ensure we can support as many artists and creatives as possible\, anyone who has previously booked a slot with us won’t be eligible this time. \nTo learn more and book a free slot\, click here.
URL:https://metalculture.com/whats-on/peterborough-open-advice-sessions/
LOCATION:Metal Peterborough\, Chauffeur's Cottage\, St Peter's Road\, Peterborough\, PE1 1YX
CATEGORIES:Featured
ATTACH;FMTTYPE=image/png:https://metalculture.com/wp-content/uploads/2024/10/Open-Advice-Oct-24.png
END:VEVENT
BEGIN:VEVENT
DTSTART;TZID=UTC:20241031T183000
DTEND;TZID=UTC:20241031T213000
DTSTAMP:20260419T210314
CREATED:20241015T101044Z
LAST-MODIFIED:20241017T151430Z
UID:22937-1730399400-1730410200@metalculture.com
SUMMARY:Hosted at Metal Liverpool: Tales From The Hood - Halloween film screening
DESCRIPTION:This Halloween night at Metal Liverpool\, Black Girl Watching Film Club is back in our Engine Room with a screening of ‘90s African American horror comedy gem\, Tales From The Hood. \nFrom @BlackGirlWatching:\nProduced by Spike Lee’s production company\, 40 Acres and a Mule\, Tales from the Hood is a weird\, silly\, scary\, once in a lifetime viewing experience. Using real life horrors like police brutality\, gang violence\, and racism as backdrops to host these spooky stories\, Tales from the Hood follows a trio of friends visiting the eccentric Mr. Simms whose terrible tales will make you scream with terror and laughter! We’ll be showing this in crystal clear Blu-ray so if you’re in the mood for some midbudget\, ambitious schlock this Halloween come grab a hot chocolate and quake in fear at this certified hood classic! \nTickets start from £1 so grab yours now by clicking the link here or buying on the door. \n6:30pm: Doors open + refreshments\n7.15pm: Tales from the Hood screening begins\n9pm – Post screening discussion \nThe Film\nYear: 1995\nRuntime: 1h 38m\nCertificate: 18\nDirector: Rusty Cundieff\nWriters: Rusty Cundieff\, Darin Scott\nCountry: America\nLanguages: English\nGenre: Drama\, Comedy\, Horror\nCast: Corbin Bernsen\, Rosalind Cash\, Rusty Cundieff\, David Alan Grier\, Anthony Griffith\, Wings Hauser\, Paula Jai Parker\, Joe Torry \nTales from the Hood trailer  \n \nThis screening is in collaboration with Liverpool African Diaspora Film Network.\nPresented by Black Girl Watching Film Club. \nPlease note: This event is ‘hosted at’ Metal Liverpool and functions outside of our programme as a dry hire. For more information on the organisers\, please visit their website here. For more information about Metal and our public programme\, please click here.
URL:https://metalculture.com/whats-on/tales-from-the-hood/
LOCATION:Metal Liverpool\, Platform 1\, Edge Hill Station\, Tunnel Road\, Liverpool\, L7 6ND\, United Kingdom
CATEGORIES:Featured
ATTACH;FMTTYPE=image/jpeg:https://metalculture.com/wp-content/uploads/2024/10/TalesFromTheHood-poster.jpg
END:VEVENT
END:VCALENDAR