BEGIN:VCALENDAR
VERSION:2.0
PRODID:-//Metal Culture - ECPv6.15.18//NONSGML v1.0//EN
CALSCALE:GREGORIAN
METHOD:PUBLISH
X-ORIGINAL-URL:https://metalculture.com
X-WR-CALDESC:Events for Metal Culture
REFRESH-INTERVAL;VALUE=DURATION:PT1H
X-Robots-Tag:noindex
X-PUBLISHED-TTL:PT1H
BEGIN:VTIMEZONE
TZID:UTC
BEGIN:STANDARD
TZOFFSETFROM:+0000
TZOFFSETTO:+0000
TZNAME:UTC
DTSTART:20240101T000000
END:STANDARD
END:VTIMEZONE
BEGIN:VEVENT
DTSTART;TZID=UTC:20250521T120000
DTEND;TZID=UTC:20250521T140000
DTSTAMP:20260419T190415
CREATED:20250514T093357Z
LAST-MODIFIED:20250514T093357Z
UID:23485-1747828800-1747836000@metalculture.com
SUMMARY:Citizen Leadership and Marketing with New Art Exchange
DESCRIPTION:In this interactive session\, New Art Exchange (NAE) will share their citizen-led approach to cultural programming—placing community voice at the heart of decision-making. Through case studies and discussion\, the session will explore how citizen led models can shape more inclusive\, resonant and far-reaching activity. Participants will consider how citizen leadership can inform not only programme content but also build authentic\, organic marketing and deeper audience connection.  \nAbout New Art Exchange:  \nNew Art Exchange (NAE) is the UK’s largest gallery dedicated to contemporary visual arts from the Global Ethnic Majority. We set out to reshape the contemporary art narrative by championing diversity and inclusivity and by providing a platform for underrepresented voices in the art world. Our focus on co-design and collaboration means we nurture citizen leadership by allowing local voices to guide how we do things. We are the first cultural institution in the world to establish a permanent citizen assembly as a key part of our leadership. This is how we ensure continuous community representation and involvement—demonstrating the power of culture when it’s built with\, not just for\, communities.  \nAbout the Large-Scale Event Network  \nTogether with the Peterborough Cultural Alliance\, Metal is hosting a Large-Scale Event and Festivals Network\, bringing together groups\, individuals\, organisations and the people who work hard behind the scenes\, from in and around Peterborough. This new network will be led by those involved and exists to help support the wealth of brilliant large-scale events happening across the city\, creating a space for inspiration\, sharing knowledge and expertise\, troubleshooting and collaboration.  \nTo find out more about the Large-Scale Event Network click here.
URL:https://metalculture.com/whats-on/citizen-leadership-and-marketing-with-new-art-exchange/
LOCATION:Gladstone Connect (Iqbaal Centre)\, 157 Cromwell Rd\, Peterborough\, PE1 2EL\, United Kingdom
CATEGORIES:Peterborough
END:VEVENT
BEGIN:VEVENT
DTSTART;TZID=UTC:20250530T110000
DTEND;TZID=UTC:20250530T150000
DTSTAMP:20260419T190415
CREATED:20250520T150924Z
LAST-MODIFIED:20250520T151032Z
UID:23496-1748602800-1748617200@metalculture.com
SUMMARY:Where We Are... Peterborough Taster Session - Pockets of Protection with Rose Croft  
DESCRIPTION:What or who makes you feel safe in Peterborough? How do you show others that they’re safe with you?   \nJoin artist Rose Croft for a drop-in workshop for folks aged 16 – 19\, to create your own pocket of protection; a stitched or printed handkerchief or small fabric pouch that holds something important to you. Using a mix of fabric painting\, stitching\, or printing\, add secret pockets or coded symbols\, that might symbolise protection\, queer or divergent identities\, show your identity loudly and proudly\, or quietly let someone know they are not alone.  \nProtective marks have long been carved into buildings and charms sewn into clothing to protection. Locally there are various buildings with secret markings or sigils to ward off evil and many an offering has been found in fens waters.    \nQueer people and others who’ve felt unsafe being open have also long used colours\, gestures or coded objects to signal who they are to those who would understand; eg. green carnations and lavender handkerchiefs or ways of speaking or dressing that signal alternative subcultures.  \nThis session will invite reflection on how we create safety for others or show who we really are when we don’t always feel safe to be fully seen.  \nThis taster workshop is part of Where We Are… Peterborough a UK wide youth-led project with the British Museum. This is a chance to find out about the project\, and how to get involved in creating something together that is special and powerful for the city and your community.     \nSnacks included!   \nWho is this session for?   \nThis session is aimed at young people aged 16 – 19 year olds\, particularly those who identify as LGBTQ+ and / or disabled and / or neurodivergent.  Tickets are free. \nBook here: https://www.eventbrite.co.uk/e/pockets-of-protection-with-rose-croft-tickets-1372491130919?aff=oddtdtcreator  \n  \nAccess  \nThe Musuem has step free entrance along with an allocated disabled parking space. There are accessible bathrooms on the ground and first floor of the building\, with a lift that takes you from the ground floor to floor 1. You can find the full accessibility page for the Musuem here   \nAbout Rose Croft   \nRose Croft is a socially engaged artist\, storyteller and creative producer\, dedicated to creating safe\, accessible spaces that foster connection through art\, story and nature. Their practice is rooted in the belief that creative experiences can inspire joy\, strengthen personal and community resilience and deepen cultural connection.  \nRose regularly works with arts organisations\, charities\, community groups\, schools and festivals. They are one half of the not-for-profit arts organisation Art Pop-Up and the founder of the producer-led collective Angry Pencil. Rose has shared stories and delivered workshops both locally and internationally for over 14 years.   \nAbout The Kite Trust   \nSince 1993\, The Kite Trust has been at the forefront of delivering LGBTQ+ youth programmes\, offering peer-to-peer support and safe social spaces for young people facing discrimination and marginalisation. Each year\, they support over 500 young people aged 13–30 through a range of services\, including weekly social groups\, family events\, residential trips\, one-to-one support\, and youth leadership initiatives.  \nYou can find out more about The Kite Trust here: https://thekitetrust.org.uk/   \nAbout the Where We Are… programme  \nWhere we are… is a UK wide youth-led programme for those aged 16–24\, which places them at the heart of shaping arts and culture in their local communities\, empowering young people through the co-creation of arts and culture. Each year\, the British Museum invites cultural and third-sector organisations from across the UK to co-create projects with young people – and we’re thrilled to have been chosen to lead this exciting programme in Peterborough.  \nYou can find out more about the previous rounds of the Where We Are programme here 
URL:https://metalculture.com/whats-on/where-we-are-peterborough-taster-session-pockets-of-protection-with-rose-croft/
LOCATION:Peterborough Museum and Gallery
CATEGORIES:Peterborough
END:VEVENT
END:VCALENDAR